BEGIN:VCALENDAR
VERSION:2.0
PRODID:-//Disco PM - ECPv6.15.20//NONSGML v1.0//EN
CALSCALE:GREGORIAN
METHOD:PUBLISH
X-WR-CALNAME:Disco PM
X-ORIGINAL-URL:https://www.discopm.com
X-WR-CALDESC:Veranstaltungen für Disco PM
REFRESH-INTERVAL;VALUE=DURATION:PT1H
X-Robots-Tag:noindex
X-PUBLISHED-TTL:PT1H
BEGIN:VTIMEZONE
TZID:Europe/Berlin
BEGIN:DAYLIGHT
TZOFFSETFROM:+0100
TZOFFSETTO:+0200
TZNAME:CEST
DTSTART:20250330T010000
END:DAYLIGHT
BEGIN:STANDARD
TZOFFSETFROM:+0200
TZOFFSETTO:+0100
TZNAME:CET
DTSTART:20251026T010000
END:STANDARD
BEGIN:DAYLIGHT
TZOFFSETFROM:+0100
TZOFFSETTO:+0200
TZNAME:CEST
DTSTART:20260329T010000
END:DAYLIGHT
BEGIN:STANDARD
TZOFFSETFROM:+0200
TZOFFSETTO:+0100
TZNAME:CET
DTSTART:20261025T010000
END:STANDARD
BEGIN:DAYLIGHT
TZOFFSETFROM:+0100
TZOFFSETTO:+0200
TZNAME:CEST
DTSTART:20270328T010000
END:DAYLIGHT
BEGIN:STANDARD
TZOFFSETFROM:+0200
TZOFFSETTO:+0100
TZNAME:CET
DTSTART:20271031T010000
END:STANDARD
END:VTIMEZONE
BEGIN:VEVENT
DTSTART;TZID=Europe/Berlin:20260612T220000
DTEND;TZID=Europe/Berlin:20260613T030000
DTSTAMP:20260420T135445
CREATED:20260414T124810Z
LAST-MODIFIED:20260414T142016Z
UID:3747-1781301600-1781319600@www.discopm.com
SUMMARY:FR 12.06. HIP HOP Night @ Sommerkeller
DESCRIPTION:🔥 PM EVENTS eskaliert im SOMMERKELLER 🔥 \nFreitag 12.06.2026\nSOMMERKELLER DISCO • 86859 IGLING • WALDWERK AREA \nES WIRD LAUT. ES WIRD HEISS. ES WIRD ABGERISSEN. \n🎧 DJ GIIPSY feiert sein Comeback\nnur harte Beats\, fette Drops und 100% Abriss \nHipHop • Black • Trap • Reggaeton • RnB \n📆 Freitag\, 12.06.2026\n⏰ 22:00 – 03:00 Uhr\n🔞 ab 16 (mit Muttizettel und Aufsicht)\n💸 Eintritt € 10.-\nTickets gibt es auch im Vorverkauf\n➥ https://www.ticketino.com/de/Event/HIP-HOP-NIGHT-SOMMERKELLER-FR-12-06/214511 \n📍Disco Sommerkeller\nAm Sommerkeller 1\n86859 Igling \n 
URL:https://www.discopm.com/event/fr-12-06-hip-hop-night-sommerkeller
LOCATION:Disco Sommerkeller\, Am Sommerkeller\, 1\, Igling\, 86859\, Germany
CATEGORIES:EVENTS
ATTACH;FMTTYPE=image/jpeg:https://www.discopm.com/wp-content/uploads/2026/04/Hip-Hop-Night-quer.jpg
END:VEVENT
END:VCALENDAR